BEGIN:VCALENDAR
VERSION:2.0
PRODID:-//Hessische Taekwondo Union - ECPv6.15.20//NONSGML v1.0//EN
CALSCALE:GREGORIAN
METHOD:PUBLISH
X-WR-CALNAME:Hessische Taekwondo Union
X-ORIGINAL-URL:https://h-t-u.de
X-WR-CALDESC:Veranstaltungen für Hessische Taekwondo Union
REFRESH-INTERVAL;VALUE=DURATION:PT1H
X-Robots-Tag:noindex
X-PUBLISHED-TTL:PT1H
BEGIN:VTIMEZONE
TZID:Europe/Berlin
BEGIN:DAYLIGHT
TZOFFSETFROM:+0100
TZOFFSETTO:+0200
TZNAME:CEST
DTSTART:20220327T010000
END:DAYLIGHT
BEGIN:STANDARD
TZOFFSETFROM:+0200
TZOFFSETTO:+0100
TZNAME:CET
DTSTART:20221030T010000
END:STANDARD
BEGIN:DAYLIGHT
TZOFFSETFROM:+0100
TZOFFSETTO:+0200
TZNAME:CEST
DTSTART:20230326T010000
END:DAYLIGHT
BEGIN:STANDARD
TZOFFSETFROM:+0200
TZOFFSETTO:+0100
TZNAME:CET
DTSTART:20231029T010000
END:STANDARD
BEGIN:DAYLIGHT
TZOFFSETFROM:+0100
TZOFFSETTO:+0200
TZNAME:CEST
DTSTART:20240331T010000
END:DAYLIGHT
BEGIN:STANDARD
TZOFFSETFROM:+0200
TZOFFSETTO:+0100
TZNAME:CET
DTSTART:20241027T010000
END:STANDARD
END:VTIMEZONE
BEGIN:VEVENT
DTSTART;TZID=Europe/Berlin:20231029T103000
DTEND;TZID=Europe/Berlin:20231029T160000
DTSTAMP:20260426T032954
CREATED:20231016T075248Z
LAST-MODIFIED:20231016T075249Z
UID:7974-1698575400-1698595200@h-t-u.de
SUMMARY:Kaderlehrgang Kampf
DESCRIPTION:Einladung Lehrgang Gelnhausen 29.10 \nTeilnehmerliste
URL:https://h-t-u.de/event/kaderlehrgang-kampf-5/
LOCATION:Turnhalle der Philipp-Reis-Schule\, Philipp-Reis-Str. 16\, Gelnhausen\, 63571
CATEGORIES:Hessische Taekwondo Union
END:VEVENT
END:VCALENDAR