BEGIN:VCALENDAR
VERSION:2.0
PRODID:-//Hessische Taekwondo Union - ECPv6.15.20//NONSGML v1.0//EN
CALSCALE:GREGORIAN
METHOD:PUBLISH
X-ORIGINAL-URL:https://h-t-u.de
X-WR-CALDESC:Veranstaltungen für Hessische Taekwondo Union
REFRESH-INTERVAL;VALUE=DURATION:PT1H
X-Robots-Tag:noindex
X-PUBLISHED-TTL:PT1H
BEGIN:VTIMEZONE
TZID:Europe/Berlin
BEGIN:DAYLIGHT
TZOFFSETFROM:+0100
TZOFFSETTO:+0200
TZNAME:CEST
DTSTART:20230326T010000
END:DAYLIGHT
BEGIN:STANDARD
TZOFFSETFROM:+0200
TZOFFSETTO:+0100
TZNAME:CET
DTSTART:20231029T010000
END:STANDARD
BEGIN:DAYLIGHT
TZOFFSETFROM:+0100
TZOFFSETTO:+0200
TZNAME:CEST
DTSTART:20240331T010000
END:DAYLIGHT
BEGIN:STANDARD
TZOFFSETFROM:+0200
TZOFFSETTO:+0100
TZNAME:CET
DTSTART:20241027T010000
END:STANDARD
BEGIN:DAYLIGHT
TZOFFSETFROM:+0100
TZOFFSETTO:+0200
TZNAME:CEST
DTSTART:20250330T010000
END:DAYLIGHT
BEGIN:STANDARD
TZOFFSETFROM:+0200
TZOFFSETTO:+0100
TZNAME:CET
DTSTART:20251026T010000
END:STANDARD
END:VTIMEZONE
BEGIN:VEVENT
DTSTART;TZID=Europe/Berlin:20240218T100000
DTEND;TZID=Europe/Berlin:20240218T140000
DTSTAMP:20260425T181148
CREATED:20240206T102051Z
LAST-MODIFIED:20240206T102052Z
UID:8264-1708250400-1708264800@h-t-u.de
SUMMARY:Kaderlehrgang und Stützpunkttraining Freestyle
DESCRIPTION:10.00-12.00 Uhr Kaderlehrgang mit Florian Gems\n12.00-14.00 Uhr Stützpunkttraining mit Florian Gems und Julius Müller
URL:https://h-t-u.de/event/kaderlehrgang-und-stuetzpunkttraining-freestyle/
LOCATION:TSG Sonnenberg\, Am Schlossberg 24\, Wiesbaden\, 65191
CATEGORIES:Hessische Taekwondo Union
END:VEVENT
BEGIN:VEVENT
DTSTART;TZID=Europe/Berlin:20240218T150000
DTEND;TZID=Europe/Berlin:20240218T180000
DTSTAMP:20260425T181148
CREATED:20240118T090143Z
LAST-MODIFIED:20240118T090144Z
UID:8189-1708268400-1708279200@h-t-u.de
SUMMARY:Young Stars Team Training
DESCRIPTION:
URL:https://h-t-u.de/event/young-stars-team-training/
LOCATION:Städt. Turnhalle\, Schultheißstr. 19\, Wiesbaden\, 65191
CATEGORIES:Hessische Taekwondo Union
END:VEVENT
END:VCALENDAR