BEGIN:VCALENDAR
VERSION:2.0
PRODID:-//Hessische Taekwondo Union - ECPv6.15.20//NONSGML v1.0//EN
CALSCALE:GREGORIAN
METHOD:PUBLISH
X-ORIGINAL-URL:https://h-t-u.de
X-WR-CALDESC:Veranstaltungen für Hessische Taekwondo Union
REFRESH-INTERVAL;VALUE=DURATION:PT1H
X-Robots-Tag:noindex
X-PUBLISHED-TTL:PT1H
BEGIN:VTIMEZONE
TZID:Europe/Berlin
BEGIN:DAYLIGHT
TZOFFSETFROM:+0100
TZOFFSETTO:+0200
TZNAME:CEST
DTSTART:20230326T010000
END:DAYLIGHT
BEGIN:STANDARD
TZOFFSETFROM:+0200
TZOFFSETTO:+0100
TZNAME:CET
DTSTART:20231029T010000
END:STANDARD
BEGIN:DAYLIGHT
TZOFFSETFROM:+0100
TZOFFSETTO:+0200
TZNAME:CEST
DTSTART:20240331T010000
END:DAYLIGHT
BEGIN:STANDARD
TZOFFSETFROM:+0200
TZOFFSETTO:+0100
TZNAME:CET
DTSTART:20241027T010000
END:STANDARD
BEGIN:DAYLIGHT
TZOFFSETFROM:+0100
TZOFFSETTO:+0200
TZNAME:CEST
DTSTART:20250330T010000
END:DAYLIGHT
BEGIN:STANDARD
TZOFFSETFROM:+0200
TZOFFSETTO:+0100
TZNAME:CET
DTSTART:20251026T010000
END:STANDARD
END:VTIMEZONE
BEGIN:VEVENT
DTSTART;TZID=Europe/Berlin:20241013T110000
DTEND;TZID=Europe/Berlin:20241013T160000
DTSTAMP:20260425T010637
CREATED:20240912T090911Z
LAST-MODIFIED:20240912T091041Z
UID:8812-1728817200-1728835200@h-t-u.de
SUMMARY:Kaderlehrgang Kampf
DESCRIPTION:Einladung Lehrgang Frankfurt 13.10 \nTeilnehmerliste Lehrgang 13.10
URL:https://h-t-u.de/event/kaderlehrgang-kampf-8/
LOCATION:Astrid-Lindgren-Schule\, Platenstr. 73\, Frankfurt\, 60431
CATEGORIES:Hessische Taekwondo Union
END:VEVENT
END:VCALENDAR