BEGIN:VCALENDAR
VERSION:2.0
PRODID:-//Hessische Taekwondo Union - ECPv6.15.20//NONSGML v1.0//EN
CALSCALE:GREGORIAN
METHOD:PUBLISH
X-ORIGINAL-URL:https://h-t-u.de
X-WR-CALDESC:Veranstaltungen für Hessische Taekwondo Union
REFRESH-INTERVAL;VALUE=DURATION:PT1H
X-Robots-Tag:noindex
X-PUBLISHED-TTL:PT1H
BEGIN:VTIMEZONE
TZID:Europe/Berlin
BEGIN:DAYLIGHT
TZOFFSETFROM:+0100
TZOFFSETTO:+0200
TZNAME:CEST
DTSTART:20240331T010000
END:DAYLIGHT
BEGIN:STANDARD
TZOFFSETFROM:+0200
TZOFFSETTO:+0100
TZNAME:CET
DTSTART:20241027T010000
END:STANDARD
BEGIN:DAYLIGHT
TZOFFSETFROM:+0100
TZOFFSETTO:+0200
TZNAME:CEST
DTSTART:20250330T010000
END:DAYLIGHT
BEGIN:STANDARD
TZOFFSETFROM:+0200
TZOFFSETTO:+0100
TZNAME:CET
DTSTART:20251026T010000
END:STANDARD
BEGIN:DAYLIGHT
TZOFFSETFROM:+0100
TZOFFSETTO:+0200
TZNAME:CEST
DTSTART:20260329T010000
END:DAYLIGHT
BEGIN:STANDARD
TZOFFSETFROM:+0200
TZOFFSETTO:+0100
TZNAME:CET
DTSTART:20261025T010000
END:STANDARD
END:VTIMEZONE
BEGIN:VEVENT
DTSTART;TZID=Europe/Berlin:20250223T100000
DTEND;TZID=Europe/Berlin:20250223T130000
DTSTAMP:20260424T151254
CREATED:20250214T084656Z
LAST-MODIFIED:20250214T084656Z
UID:9239-1740304800-1740315600@h-t-u.de
SUMMARY:Young Stars Team Training Technik
DESCRIPTION:
URL:https://h-t-u.de/event/young-stars-team-training-technik/
LOCATION:Städt. Turnhalle\, Schultheißstr. 19\, Wiesbaden\, 65191
CATEGORIES:Hessische Taekwondo Union
END:VEVENT
BEGIN:VEVENT
DTSTART;TZID=Europe/Berlin:20250223T103000
DTEND;TZID=Europe/Berlin:20250223T160000
DTSTAMP:20260424T151254
CREATED:20250130T091538Z
LAST-MODIFIED:20250131T083907Z
UID:9185-1740306600-1740326400@h-t-u.de
SUMMARY:Kaderlehrgang Kampf
DESCRIPTION:Teilnehmer \nEinladung Lehrgang Gelnhausen 23.02
URL:https://h-t-u.de/event/kaderlehrgang-kampf-10/
LOCATION:Turnhalle der Philipp-Reis-Schule\, Philipp-Reis-Str. 16\, Gelnhausen\, 63571
CATEGORIES:Hessische Taekwondo Union
END:VEVENT
END:VCALENDAR