BEGIN:VCALENDAR
VERSION:2.0
PRODID:-//Hessische Taekwondo Union - ECPv6.15.20//NONSGML v1.0//EN
CALSCALE:GREGORIAN
METHOD:PUBLISH
X-WR-CALNAME:Hessische Taekwondo Union
X-ORIGINAL-URL:https://h-t-u.de
X-WR-CALDESC:Veranstaltungen für Hessische Taekwondo Union
REFRESH-INTERVAL;VALUE=DURATION:PT1H
X-Robots-Tag:noindex
X-PUBLISHED-TTL:PT1H
BEGIN:VTIMEZONE
TZID:Europe/Berlin
BEGIN:DAYLIGHT
TZOFFSETFROM:+0100
TZOFFSETTO:+0200
TZNAME:CEST
DTSTART:20240331T010000
END:DAYLIGHT
BEGIN:STANDARD
TZOFFSETFROM:+0200
TZOFFSETTO:+0100
TZNAME:CET
DTSTART:20241027T010000
END:STANDARD
BEGIN:DAYLIGHT
TZOFFSETFROM:+0100
TZOFFSETTO:+0200
TZNAME:CEST
DTSTART:20250330T010000
END:DAYLIGHT
BEGIN:STANDARD
TZOFFSETFROM:+0200
TZOFFSETTO:+0100
TZNAME:CET
DTSTART:20251026T010000
END:STANDARD
BEGIN:DAYLIGHT
TZOFFSETFROM:+0100
TZOFFSETTO:+0200
TZNAME:CEST
DTSTART:20260329T010000
END:DAYLIGHT
BEGIN:STANDARD
TZOFFSETFROM:+0200
TZOFFSETTO:+0100
TZNAME:CET
DTSTART:20261025T010000
END:STANDARD
END:VTIMEZONE
BEGIN:VEVENT
DTSTART;TZID=Europe/Berlin:20250503T100000
DTEND;TZID=Europe/Berlin:20250503T100000
DTSTAMP:20260424T075732
CREATED:20250228T092606Z
LAST-MODIFIED:20250317T213558Z
UID:9272-1746266400-1746266400@h-t-u.de
SUMMARY:2. Dan-Vorbereitungslehrgang zum 1. - 9. Dan / 1. - 3. Poom
DESCRIPTION:Kopie von 2025-05-03_Ausschreibung_DVL-TURA-Niederhöchstadt-1 \nAnmeldung_Exel-Tabelle-_DVL_Niederhöchstadt_03.05.2025 
URL:https://h-t-u.de/event/2-dan-vorbereitungslehrgang-zum-1-9-dan-1-3-poom/
LOCATION:Niederhöchstadt\, Georg-Büchner-Straße 30\, Eschborn\, 65760
CATEGORIES:Hessische Taekwondo Union
END:VEVENT
END:VCALENDAR