BEGIN:VCALENDAR
VERSION:2.0
PRODID:-//Hessische Taekwondo Union - ECPv6.15.20//NONSGML v1.0//EN
CALSCALE:GREGORIAN
METHOD:PUBLISH
X-ORIGINAL-URL:https://h-t-u.de
X-WR-CALDESC:Veranstaltungen für Hessische Taekwondo Union
REFRESH-INTERVAL;VALUE=DURATION:PT1H
X-Robots-Tag:noindex
X-PUBLISHED-TTL:PT1H
BEGIN:VTIMEZONE
TZID:Europe/Berlin
BEGIN:DAYLIGHT
TZOFFSETFROM:+0100
TZOFFSETTO:+0200
TZNAME:CEST
DTSTART:20240331T010000
END:DAYLIGHT
BEGIN:STANDARD
TZOFFSETFROM:+0200
TZOFFSETTO:+0100
TZNAME:CET
DTSTART:20241027T010000
END:STANDARD
BEGIN:DAYLIGHT
TZOFFSETFROM:+0100
TZOFFSETTO:+0200
TZNAME:CEST
DTSTART:20250330T010000
END:DAYLIGHT
BEGIN:STANDARD
TZOFFSETFROM:+0200
TZOFFSETTO:+0100
TZNAME:CET
DTSTART:20251026T010000
END:STANDARD
BEGIN:DAYLIGHT
TZOFFSETFROM:+0100
TZOFFSETTO:+0200
TZNAME:CEST
DTSTART:20260329T010000
END:DAYLIGHT
BEGIN:STANDARD
TZOFFSETFROM:+0200
TZOFFSETTO:+0100
TZNAME:CET
DTSTART:20261025T010000
END:STANDARD
END:VTIMEZONE
BEGIN:VEVENT
DTSTART;TZID=Europe/Berlin:20251011T100000
DTEND;TZID=Europe/Berlin:20251012T160000
DTSTAMP:20260423T215345
CREATED:20250718T073713Z
LAST-MODIFIED:20250718T073714Z
UID:9593-1760176800-1760284800@h-t-u.de
SUMMARY:Trainer A/B Lizenz Fortbildung
DESCRIPTION:ausschreibung-FOBI-Trainer A u B Lizenz-11.-12.Oktober 2025-htu
URL:https://h-t-u.de/event/trainer-a-b-lizenz-fortbildung/
LOCATION:Landessportbund Hessen\, Otto-Fleck-Schneise 4\, Frankfurt\, 60528
CATEGORIES:Hessische Taekwondo Union
END:VEVENT
END:VCALENDAR