BEGIN:VCALENDAR
VERSION:2.0
PRODID:-//Hessische Taekwondo Union - ECPv6.15.20//NONSGML v1.0//EN
CALSCALE:GREGORIAN
METHOD:PUBLISH
X-ORIGINAL-URL:https://h-t-u.de
X-WR-CALDESC:Veranstaltungen für Hessische Taekwondo Union
REFRESH-INTERVAL;VALUE=DURATION:PT1H
X-Robots-Tag:noindex
X-PUBLISHED-TTL:PT1H
BEGIN:VTIMEZONE
TZID:Europe/Berlin
BEGIN:DAYLIGHT
TZOFFSETFROM:+0100
TZOFFSETTO:+0200
TZNAME:CEST
DTSTART:20240331T010000
END:DAYLIGHT
BEGIN:STANDARD
TZOFFSETFROM:+0200
TZOFFSETTO:+0100
TZNAME:CET
DTSTART:20241027T010000
END:STANDARD
BEGIN:DAYLIGHT
TZOFFSETFROM:+0100
TZOFFSETTO:+0200
TZNAME:CEST
DTSTART:20250330T010000
END:DAYLIGHT
BEGIN:STANDARD
TZOFFSETFROM:+0200
TZOFFSETTO:+0100
TZNAME:CET
DTSTART:20251026T010000
END:STANDARD
BEGIN:DAYLIGHT
TZOFFSETFROM:+0100
TZOFFSETTO:+0200
TZNAME:CEST
DTSTART:20260329T010000
END:DAYLIGHT
BEGIN:STANDARD
TZOFFSETFROM:+0200
TZOFFSETTO:+0100
TZNAME:CET
DTSTART:20261025T010000
END:STANDARD
END:VTIMEZONE
BEGIN:VEVENT
DTSTART;VALUE=DATE:20251101
DTEND;VALUE=DATE:20251102
DTSTAMP:20260423T173155
CREATED:20250508T112025Z
LAST-MODIFIED:20250904T110729Z
UID:9398-1761955200-1762041599@h-t-u.de
SUMMARY:Hessenmeisterschaften Kampf
DESCRIPTION:Ausschreibung-Hessenmeisterschaft 2025-Kyorugi-Zweikampf
URL:https://h-t-u.de/event/hessenmeisterschaften-kampf/
LOCATION:Albin-Göhring-Halle\, Massenheimer Weg 2\, Bad Homburg\, 61352\, Germany
CATEGORIES:Hessische Taekwondo Union
END:VEVENT
BEGIN:VEVENT
DTSTART;VALUE=DATE:20251101
DTEND;VALUE=DATE:20251102
DTSTAMP:20260423T173155
CREATED:20250508T112129Z
LAST-MODIFIED:20250903T072727Z
UID:9400-1761955200-1762041599@h-t-u.de
SUMMARY:Hessenmeisterschaften Technik
DESCRIPTION:Ausschreibung_Hessenmeisterschaft_Poomsae_(2025-11-01)_v1
URL:https://h-t-u.de/event/hessenmeisterschaften-technik/
LOCATION:Albin-Göhring-Halle\, Massenheimer Weg 2\, Bad Homburg\, 61352\, Germany
CATEGORIES:Hessische Taekwondo Union
END:VEVENT
BEGIN:VEVENT
DTSTART;VALUE=DATE:20251101
DTEND;VALUE=DATE:20251102
DTSTAMP:20260423T173155
CREATED:20250903T072855Z
LAST-MODIFIED:20250903T072936Z
UID:9629-1761955200-1762041599@h-t-u.de
SUMMARY:Young-Stars-Nachwuchsturnier Technik
DESCRIPTION:Ausschreibung_Young-Stars-Nachwuchsturnier_Poomsae_(2025-11-01)_v1
URL:https://h-t-u.de/event/young-stars-nachwuchsturnier/
LOCATION:Albin-Göhring-Halle\, Massenheimer Weg 2\, Bad Homburg\, 61352\, Germany
CATEGORIES:Hessische Taekwondo Union
END:VEVENT
BEGIN:VEVENT
DTSTART;VALUE=DATE:20251101
DTEND;VALUE=DATE:20251102
DTSTAMP:20260423T173155
CREATED:20250904T110834Z
LAST-MODIFIED:20250904T110834Z
UID:9636-1761955200-1762041599@h-t-u.de
SUMMARY:Young-Stars-Nachwuchsturnier Kampf
DESCRIPTION:Ausschreibung-Young Stars Nachwuchsturnier-2025-Kyorugi-Zweikampf
URL:https://h-t-u.de/event/young-stars-nachwuchsturnier-kampf/
LOCATION:Albin-Göhring-Halle\, Massenheimer Weg 2\, Bad Homburg\, 61352\, Germany
CATEGORIES:Hessische Taekwondo Union
END:VEVENT
END:VCALENDAR