BEGIN:VCALENDAR
VERSION:2.0
PRODID:-//Hessische Taekwondo Union - ECPv6.15.20//NONSGML v1.0//EN
CALSCALE:GREGORIAN
METHOD:PUBLISH
X-ORIGINAL-URL:https://h-t-u.de
X-WR-CALDESC:Veranstaltungen für Hessische Taekwondo Union
REFRESH-INTERVAL;VALUE=DURATION:PT1H
X-Robots-Tag:noindex
X-PUBLISHED-TTL:PT1H
BEGIN:VTIMEZONE
TZID:Europe/Berlin
BEGIN:DAYLIGHT
TZOFFSETFROM:+0100
TZOFFSETTO:+0200
TZNAME:CEST
DTSTART:20240331T010000
END:DAYLIGHT
BEGIN:STANDARD
TZOFFSETFROM:+0200
TZOFFSETTO:+0100
TZNAME:CET
DTSTART:20241027T010000
END:STANDARD
BEGIN:DAYLIGHT
TZOFFSETFROM:+0100
TZOFFSETTO:+0200
TZNAME:CEST
DTSTART:20250330T010000
END:DAYLIGHT
BEGIN:STANDARD
TZOFFSETFROM:+0200
TZOFFSETTO:+0100
TZNAME:CET
DTSTART:20251026T010000
END:STANDARD
BEGIN:DAYLIGHT
TZOFFSETFROM:+0100
TZOFFSETTO:+0200
TZNAME:CEST
DTSTART:20260329T010000
END:DAYLIGHT
BEGIN:STANDARD
TZOFFSETFROM:+0200
TZOFFSETTO:+0100
TZNAME:CET
DTSTART:20261025T010000
END:STANDARD
END:VTIMEZONE
BEGIN:VEVENT
DTSTART;TZID=Europe/Berlin:20251108T100000
DTEND;TZID=Europe/Berlin:20251108T100000
DTSTAMP:20260423T173208
CREATED:20250419T113412Z
LAST-MODIFIED:20250805T105432Z
UID:9332-1762596000-1762596000@h-t-u.de
SUMMARY:2. Dan-Vorbereitungslehrgang zum 1. - 3. Dan/Poom
DESCRIPTION:2025-11-08-Ausschreibung_DVL-Taekwondo Verein Bergstraße Bensheim e.V.(1) \nKopie von Anmeldung_Exel-Tabelle-_DVL_Bensheim-am-04.06.2022 (2)
URL:https://h-t-u.de/event/2-dan-vorbereitungslehrgang-zum-1-3-dan-poom/
LOCATION:Niebelungenlandhalle\, Wilhelmstraße 96\, Bensheim\, 64625
CATEGORIES:Hessische Taekwondo Union
END:VEVENT
END:VCALENDAR