BEGIN:VCALENDAR
VERSION:2.0
PRODID:-//Hessische Taekwondo Union - ECPv6.15.20//NONSGML v1.0//EN
CALSCALE:GREGORIAN
METHOD:PUBLISH
X-WR-CALNAME:Hessische Taekwondo Union
X-ORIGINAL-URL:https://h-t-u.de
X-WR-CALDESC:Veranstaltungen für Hessische Taekwondo Union
REFRESH-INTERVAL;VALUE=DURATION:PT1H
X-Robots-Tag:noindex
X-PUBLISHED-TTL:PT1H
BEGIN:VTIMEZONE
TZID:Europe/Berlin
BEGIN:DAYLIGHT
TZOFFSETFROM:+0100
TZOFFSETTO:+0200
TZNAME:CEST
DTSTART:20240331T010000
END:DAYLIGHT
BEGIN:STANDARD
TZOFFSETFROM:+0200
TZOFFSETTO:+0100
TZNAME:CET
DTSTART:20241027T010000
END:STANDARD
BEGIN:DAYLIGHT
TZOFFSETFROM:+0100
TZOFFSETTO:+0200
TZNAME:CEST
DTSTART:20250330T010000
END:DAYLIGHT
BEGIN:STANDARD
TZOFFSETFROM:+0200
TZOFFSETTO:+0100
TZNAME:CET
DTSTART:20251026T010000
END:STANDARD
BEGIN:DAYLIGHT
TZOFFSETFROM:+0100
TZOFFSETTO:+0200
TZNAME:CEST
DTSTART:20260329T010000
END:DAYLIGHT
BEGIN:STANDARD
TZOFFSETFROM:+0200
TZOFFSETTO:+0100
TZNAME:CET
DTSTART:20261025T010000
END:STANDARD
END:VTIMEZONE
BEGIN:VEVENT
DTSTART;TZID=Europe/Berlin:20251123T100000
DTEND;TZID=Europe/Berlin:20251123T160000
DTSTAMP:20260423T172845
CREATED:20250627T063501Z
LAST-MODIFIED:20250627T063501Z
UID:9542-1763892000-1763913600@h-t-u.de
SUMMARY:HTU Breitensportlehrgang Poomsae – Hanbon Kyorugi – Hosinsul
DESCRIPTION:HTU_Beitensportlehrgang20251123
URL:https://h-t-u.de/event/htu-breitensportlehrgang-poomsae-hanbon-kyorugi-hosinsul/
LOCATION:Kopernikusschule\, Konrad-Adenauer-Ring 25\, Freigericht\, 63579
CATEGORIES:Hessische Taekwondo Union
END:VEVENT
BEGIN:VEVENT
DTSTART;TZID=Europe/Berlin:20251123T110000
DTEND;TZID=Europe/Berlin:20251123T160000
DTSTAMP:20260423T172845
CREATED:20251015T134306Z
LAST-MODIFIED:20251015T134306Z
UID:9755-1763895600-1763913600@h-t-u.de
SUMMARY:Kaderlehrgang Kampf
DESCRIPTION:Einladung Lehrgang Wiesbaden 23.11 \nTeilnehmer:\nName Vorname Verein\nBecher Raphael Budo-Schule Wiesbaden\nAkkaya Mert Budokwan Frankfurt\nAmhamdi Marouan Budokwan Frankfurt\nAmhamdi Safouan Budokwan Frankfurt\nLi David Budokwan Frankfurt\nLi Peter Budokwan Frankfurt\nBube Fynn-Luca Chung-Gun Hammersbach\nPrestifilippo Luisa Gelnhäuser TC\nRzepka Jean-Luc Gelnhäuser TC\nSchatz André Gelnhäuser TC\nSchulz Philipp Gelnhäuser TC\nSpillmann Sarah Gelnhäuser TC\nVigneri Giuliana Gelnhäuser TC\nMilosevic Lenka Taekyon-Dojang FFM\nMusic Muris Taekyon-Dojang FFM\nBen Amar Nour TG Schwalbach\nMountij Zaineb TG Schwalbach\nVarvaras Anastasia TG Schwalbach\nYachaoui Ayman TG Schwalbach\nYachaoui Imane TG Schwalbach\nMassomi Zahra TKD Cappel Marburg\nSharova Ksenia TKD Hünfeld\nCiplak Selim TSV Korbach\nDentler Mia Sophie TSV Korbach\nIwaniak Raphael TSV Korbach\nKabashi Arlind TSV Korbach
URL:https://h-t-u.de/event/kaderlehrgang-kampf/
LOCATION:Städt. Turnhalle\, Schultheißstr. 19\, Wiesbaden\, 65191
CATEGORIES:Hessische Taekwondo Union
END:VEVENT
END:VCALENDAR