BEGIN:VCALENDAR
VERSION:2.0
PRODID:-//Hessische Taekwondo Union - ECPv6.15.20//NONSGML v1.0//EN
CALSCALE:GREGORIAN
METHOD:PUBLISH
X-ORIGINAL-URL:https://h-t-u.de
X-WR-CALDESC:Veranstaltungen für Hessische Taekwondo Union
REFRESH-INTERVAL;VALUE=DURATION:PT1H
X-Robots-Tag:noindex
X-PUBLISHED-TTL:PT1H
BEGIN:VTIMEZONE
TZID:Europe/Berlin
BEGIN:DAYLIGHT
TZOFFSETFROM:+0100
TZOFFSETTO:+0200
TZNAME:CEST
DTSTART:20250330T010000
END:DAYLIGHT
BEGIN:STANDARD
TZOFFSETFROM:+0200
TZOFFSETTO:+0100
TZNAME:CET
DTSTART:20251026T010000
END:STANDARD
BEGIN:DAYLIGHT
TZOFFSETFROM:+0100
TZOFFSETTO:+0200
TZNAME:CEST
DTSTART:20260329T010000
END:DAYLIGHT
BEGIN:STANDARD
TZOFFSETFROM:+0200
TZOFFSETTO:+0100
TZNAME:CET
DTSTART:20261025T010000
END:STANDARD
BEGIN:DAYLIGHT
TZOFFSETFROM:+0100
TZOFFSETTO:+0200
TZNAME:CEST
DTSTART:20270328T010000
END:DAYLIGHT
BEGIN:STANDARD
TZOFFSETFROM:+0200
TZOFFSETTO:+0100
TZNAME:CET
DTSTART:20271031T010000
END:STANDARD
END:VTIMEZONE
BEGIN:VEVENT
DTSTART;TZID=Europe/Berlin:20260322T100000
DTEND;TZID=Europe/Berlin:20260322T150000
DTSTAMP:20260423T081038
CREATED:20260319T143851Z
LAST-MODIFIED:20260319T144909Z
UID:10195-1774173600-1774191600@h-t-u.de
SUMMARY:Kaderlehrgang Technik
DESCRIPTION:
URL:https://h-t-u.de/event/kaderlehrgang-technik-15/
LOCATION:Walluftalschule\, Hohlweg 45\, Walluf\, 65396
CATEGORIES:Hessische Taekwondo Union
END:VEVENT
BEGIN:VEVENT
DTSTART;TZID=Europe/Berlin:20260322T100000
DTEND;TZID=Europe/Berlin:20260322T160000
DTSTAMP:20260423T081038
CREATED:20251217T142855Z
LAST-MODIFIED:20251217T142942Z
UID:9935-1774173600-1774195200@h-t-u.de
SUMMARY:HTU Breitensportlehrgang Poomsae –Kyorugi – Hosinsul
DESCRIPTION:HTU_Beitensportlehrgang20260322
URL:https://h-t-u.de/event/htu-breitensportlehrgang-poomsae-kyorugi-hosinsul/
LOCATION:Sporthalle Bettenhausen\, Eichwaldstraße 110\, Kassel\, 34123
CATEGORIES:Hessische Taekwondo Union
END:VEVENT
END:VCALENDAR