BEGIN:VCALENDAR
VERSION:2.0
PRODID:-//Hessische Taekwondo Union - ECPv6.15.20//NONSGML v1.0//EN
CALSCALE:GREGORIAN
METHOD:PUBLISH
X-WR-CALNAME:Hessische Taekwondo Union
X-ORIGINAL-URL:https://h-t-u.de
X-WR-CALDESC:Veranstaltungen für Hessische Taekwondo Union
REFRESH-INTERVAL;VALUE=DURATION:PT1H
X-Robots-Tag:noindex
X-PUBLISHED-TTL:PT1H
BEGIN:VTIMEZONE
TZID:Europe/Berlin
BEGIN:DAYLIGHT
TZOFFSETFROM:+0100
TZOFFSETTO:+0200
TZNAME:CEST
DTSTART:20250330T010000
END:DAYLIGHT
BEGIN:STANDARD
TZOFFSETFROM:+0200
TZOFFSETTO:+0100
TZNAME:CET
DTSTART:20251026T010000
END:STANDARD
BEGIN:DAYLIGHT
TZOFFSETFROM:+0100
TZOFFSETTO:+0200
TZNAME:CEST
DTSTART:20260329T010000
END:DAYLIGHT
BEGIN:STANDARD
TZOFFSETFROM:+0200
TZOFFSETTO:+0100
TZNAME:CET
DTSTART:20261025T010000
END:STANDARD
BEGIN:DAYLIGHT
TZOFFSETFROM:+0100
TZOFFSETTO:+0200
TZNAME:CEST
DTSTART:20270328T010000
END:DAYLIGHT
BEGIN:STANDARD
TZOFFSETFROM:+0200
TZOFFSETTO:+0100
TZNAME:CET
DTSTART:20271031T010000
END:STANDARD
END:VTIMEZONE
BEGIN:VEVENT
DTSTART;TZID=Europe/Berlin:20260426T090000
DTEND;TZID=Europe/Berlin:20260426T170000
DTSTAMP:20260423T032056
CREATED:20260319T085600Z
LAST-MODIFIED:20260319T085600Z
UID:10181-1777194000-1777222800@h-t-u.de
SUMMARY:PRAXIS - FORTBILDUNG FASZIENTAPING
DESCRIPTION:flyer-Fortbildung HTU-BERENGAR-April 2026-td liz
URL:https://h-t-u.de/event/praxis-fortbildung-faszientaping-2/
LOCATION:Landessportbund Hessen\, Otto-Fleck-Schneise 4\, Frankfurt\, 60528
CATEGORIES:Hessische Taekwondo Union
END:VEVENT
BEGIN:VEVENT
DTSTART;TZID=Europe/Berlin:20260426T110000
DTEND;TZID=Europe/Berlin:20260426T160000
DTSTAMP:20260423T032056
CREATED:20260405T113446Z
LAST-MODIFIED:20260405T113446Z
UID:10266-1777201200-1777219200@h-t-u.de
SUMMARY:Kaderlehrgang Kampf
DESCRIPTION:
URL:https://h-t-u.de/event/kaderlehrgang-kampf-4/
LOCATION:Turnhalle der Philipp-Reis-Schule\, Philipp-Reis-Str. 16\, Gelnhausen\, 63571
CATEGORIES:Hessische Taekwondo Union
END:VEVENT
END:VCALENDAR