BEGIN:VCALENDAR
VERSION:2.0
PRODID:-//Hessische Taekwondo Union - ECPv6.15.20//NONSGML v1.0//EN
CALSCALE:GREGORIAN
METHOD:PUBLISH
X-WR-CALNAME:Hessische Taekwondo Union
X-ORIGINAL-URL:https://h-t-u.de
X-WR-CALDESC:Veranstaltungen für Hessische Taekwondo Union
REFRESH-INTERVAL;VALUE=DURATION:PT1H
X-Robots-Tag:noindex
X-PUBLISHED-TTL:PT1H
BEGIN:VTIMEZONE
TZID:Europe/Berlin
BEGIN:DAYLIGHT
TZOFFSETFROM:+0100
TZOFFSETTO:+0200
TZNAME:CEST
DTSTART:20250330T010000
END:DAYLIGHT
BEGIN:STANDARD
TZOFFSETFROM:+0200
TZOFFSETTO:+0100
TZNAME:CET
DTSTART:20251026T010000
END:STANDARD
BEGIN:DAYLIGHT
TZOFFSETFROM:+0100
TZOFFSETTO:+0200
TZNAME:CEST
DTSTART:20260329T010000
END:DAYLIGHT
BEGIN:STANDARD
TZOFFSETFROM:+0200
TZOFFSETTO:+0100
TZNAME:CET
DTSTART:20261025T010000
END:STANDARD
BEGIN:DAYLIGHT
TZOFFSETFROM:+0100
TZOFFSETTO:+0200
TZNAME:CEST
DTSTART:20270328T010000
END:DAYLIGHT
BEGIN:STANDARD
TZOFFSETFROM:+0200
TZOFFSETTO:+0100
TZNAME:CET
DTSTART:20271031T010000
END:STANDARD
END:VTIMEZONE
BEGIN:VEVENT
DTSTART;TZID=Europe/Berlin:20260509T100000
DTEND;TZID=Europe/Berlin:20260509T100000
DTSTAMP:20260423T082222
CREATED:20260209T074618Z
LAST-MODIFIED:20260223T142311Z
UID:10106-1778320800-1778320800@h-t-u.de
SUMMARY:2. Dan-Vorbereitungslehrgang zum 1. - 9. Dan / 1. - 3. Poom
DESCRIPTION:2026-05-09_Ausschreibung_DVL-Dietzenbach \n  \nVorlage_Anmeldung_DVL(3)
URL:https://h-t-u.de/event/2-dan-vorbereitungslehrgang-zum-1-9-dan-1-3-poom-2/
LOCATION:Philipp Fenn Halle\, Rodgaustr. 1\, Dietzenbach\, 63128
CATEGORIES:Hessische Taekwondo Union
END:VEVENT
BEGIN:VEVENT
DTSTART;TZID=Europe/Berlin:20260509T100000
DTEND;TZID=Europe/Berlin:20260509T170000
DTSTAMP:20260423T082222
CREATED:20260319T143717Z
LAST-MODIFIED:20260319T143717Z
UID:10192-1778320800-1778346000@h-t-u.de
SUMMARY:Seminar (Tagesfortbildung) Faszien -soft und fetzig
DESCRIPTION:Seminar-FASZIEN-SOFT UND FETZIG–tob-ausschreibung-mai 2026
URL:https://h-t-u.de/event/seminar-tagesfortbildung-faszien-soft-und-fetzig/
LOCATION:Landessportbund Hessen\, Otto-Fleck-Schneise 4\, Frankfurt\, 60528
CATEGORIES:Hessische Taekwondo Union
END:VEVENT
END:VCALENDAR