BEGIN:VCALENDAR
VERSION:2.0
PRODID:-//Hessische Taekwondo Union - ECPv6.15.20//NONSGML v1.0//EN
CALSCALE:GREGORIAN
METHOD:PUBLISH
X-WR-CALNAME:Hessische Taekwondo Union
X-ORIGINAL-URL:https://h-t-u.de
X-WR-CALDESC:Veranstaltungen für Hessische Taekwondo Union
REFRESH-INTERVAL;VALUE=DURATION:PT1H
X-Robots-Tag:noindex
X-PUBLISHED-TTL:PT1H
BEGIN:VTIMEZONE
TZID:Europe/Berlin
BEGIN:DAYLIGHT
TZOFFSETFROM:+0100
TZOFFSETTO:+0200
TZNAME:CEST
DTSTART:20250330T010000
END:DAYLIGHT
BEGIN:STANDARD
TZOFFSETFROM:+0200
TZOFFSETTO:+0100
TZNAME:CET
DTSTART:20251026T010000
END:STANDARD
BEGIN:DAYLIGHT
TZOFFSETFROM:+0100
TZOFFSETTO:+0200
TZNAME:CEST
DTSTART:20260329T010000
END:DAYLIGHT
BEGIN:STANDARD
TZOFFSETFROM:+0200
TZOFFSETTO:+0100
TZNAME:CET
DTSTART:20261025T010000
END:STANDARD
BEGIN:DAYLIGHT
TZOFFSETFROM:+0100
TZOFFSETTO:+0200
TZNAME:CEST
DTSTART:20270328T010000
END:DAYLIGHT
BEGIN:STANDARD
TZOFFSETFROM:+0200
TZOFFSETTO:+0100
TZNAME:CET
DTSTART:20271031T010000
END:STANDARD
END:VTIMEZONE
BEGIN:VEVENT
DTSTART;VALUE=DATE:20260530
DTEND;VALUE=DATE:20260531
DTSTAMP:20260423T101546
CREATED:20260112T083100Z
LAST-MODIFIED:20260417T075324Z
UID:9986-1780099200-1780185599@h-t-u.de
SUMMARY:Newcomer Cup Technik Walldorf
DESCRIPTION:Ausschreibung_Newcomer-Cup-Poomsae_(2026-05-30)_v1.0
URL:https://h-t-u.de/event/newcomer-cup-technik-walldorf-2026/
LOCATION:Sporthalle im TGS-Sportzentrum\, Okrifteler Str. 6\, Mörfelden-Walldorf\, 64546
CATEGORIES:Hessische Taekwondo Union
END:VEVENT
BEGIN:VEVENT
DTSTART;TZID=Europe/Berlin:20260530T100000
DTEND;TZID=Europe/Berlin:20260530T170000
DTSTAMP:20260423T101546
CREATED:20260319T143510Z
LAST-MODIFIED:20260319T143510Z
UID:10189-1780135200-1780160400@h-t-u.de
SUMMARY:Seminar (Tagesfortbildung) Trainingslehre
DESCRIPTION:Seminar-TRAININGSLEHRE-tob-ausschreibung-Mai 2026
URL:https://h-t-u.de/event/seminar-tagesfortbildung-trainingslehre/
LOCATION:Landessportbund Hessen\, Otto-Fleck-Schneise 4\, Frankfurt\, 60528
CATEGORIES:Hessische Taekwondo Union
END:VEVENT
END:VCALENDAR