BEGIN:VCALENDAR
VERSION:2.0
PRODID:-//Hessische Taekwondo Union - ECPv6.15.20//NONSGML v1.0//EN
CALSCALE:GREGORIAN
METHOD:PUBLISH
X-WR-CALNAME:Hessische Taekwondo Union
X-ORIGINAL-URL:https://h-t-u.de
X-WR-CALDESC:Veranstaltungen für Hessische Taekwondo Union
REFRESH-INTERVAL;VALUE=DURATION:PT1H
X-Robots-Tag:noindex
X-PUBLISHED-TTL:PT1H
BEGIN:VTIMEZONE
TZID:Europe/Berlin
BEGIN:DAYLIGHT
TZOFFSETFROM:+0100
TZOFFSETTO:+0200
TZNAME:CEST
DTSTART:20250330T010000
END:DAYLIGHT
BEGIN:STANDARD
TZOFFSETFROM:+0200
TZOFFSETTO:+0100
TZNAME:CET
DTSTART:20251026T010000
END:STANDARD
BEGIN:DAYLIGHT
TZOFFSETFROM:+0100
TZOFFSETTO:+0200
TZNAME:CEST
DTSTART:20260329T010000
END:DAYLIGHT
BEGIN:STANDARD
TZOFFSETFROM:+0200
TZOFFSETTO:+0100
TZNAME:CET
DTSTART:20261025T010000
END:STANDARD
BEGIN:DAYLIGHT
TZOFFSETFROM:+0100
TZOFFSETTO:+0200
TZNAME:CEST
DTSTART:20270328T010000
END:DAYLIGHT
BEGIN:STANDARD
TZOFFSETFROM:+0200
TZOFFSETTO:+0100
TZNAME:CET
DTSTART:20271031T010000
END:STANDARD
END:VTIMEZONE
BEGIN:VEVENT
DTSTART;TZID=Europe/Berlin:20260927T093000
DTEND;TZID=Europe/Berlin:20260927T140000
DTSTAMP:20260423T172927
CREATED:20260331T073109Z
LAST-MODIFIED:20260331T073109Z
UID:10253-1790501400-1790517600@h-t-u.de
SUMMARY:17. Kinder- und Jugendlehrgang der HTU
DESCRIPTION:KinderJugendHTU2026
URL:https://h-t-u.de/event/17-kinder-und-jugendlehrgang-der-htu/
LOCATION:Kreissporthalle 1\, Jahnstrasse\, Hünfeld
CATEGORIES:Hessische Taekwondo Union
END:VEVENT
END:VCALENDAR