BEGIN:VCALENDAR
VERSION:2.0
PRODID:-//Hessische Taekwondo Union - ECPv6.15.20//NONSGML v1.0//EN
CALSCALE:GREGORIAN
METHOD:PUBLISH
X-ORIGINAL-URL:https://h-t-u.de
X-WR-CALDESC:Veranstaltungen für Hessische Taekwondo Union
REFRESH-INTERVAL;VALUE=DURATION:PT1H
X-Robots-Tag:noindex
X-PUBLISHED-TTL:PT1H
BEGIN:VTIMEZONE
TZID:Europe/Berlin
BEGIN:DAYLIGHT
TZOFFSETFROM:+0100
TZOFFSETTO:+0200
TZNAME:CEST
DTSTART:20230326T010000
END:DAYLIGHT
BEGIN:STANDARD
TZOFFSETFROM:+0200
TZOFFSETTO:+0100
TZNAME:CET
DTSTART:20231029T010000
END:STANDARD
BEGIN:DAYLIGHT
TZOFFSETFROM:+0100
TZOFFSETTO:+0200
TZNAME:CEST
DTSTART:20240331T010000
END:DAYLIGHT
BEGIN:STANDARD
TZOFFSETFROM:+0200
TZOFFSETTO:+0100
TZNAME:CET
DTSTART:20241027T010000
END:STANDARD
BEGIN:DAYLIGHT
TZOFFSETFROM:+0100
TZOFFSETTO:+0200
TZNAME:CEST
DTSTART:20250330T010000
END:DAYLIGHT
BEGIN:STANDARD
TZOFFSETFROM:+0200
TZOFFSETTO:+0100
TZNAME:CET
DTSTART:20251026T010000
END:STANDARD
END:VTIMEZONE
BEGIN:VEVENT
DTSTART;VALUE=DATE:20240308
DTEND;VALUE=DATE:20240311
DTSTAMP:20260425T145717
CREATED:20231017T134158Z
LAST-MODIFIED:20231017T134158Z
UID:7979-1709856000-1710115199@h-t-u.de
SUMMARY:TRAINER C-LIZENZ AUSBILDUNG 2024 Step 1
DESCRIPTION:htu-TKD-ÜL C-Frühjahr 2024-Ausschreibung
URL:https://h-t-u.de/event/trainer-c-lizenz-ausbildung-2024-step-1/
LOCATION:Landessportbund Hessen\, Otto-Fleck-Schneise 4\, Frankfurt\, 60528
CATEGORIES:Hessische Taekwondo Union
END:VEVENT
BEGIN:VEVENT
DTSTART;TZID=Europe/Berlin:20240309T110000
DTEND;TZID=Europe/Berlin:20240309T160000
DTSTAMP:20260425T145717
CREATED:20240229T084231Z
LAST-MODIFIED:20240229T084232Z
UID:8343-1709982000-1710000000@h-t-u.de
SUMMARY:Prüfer- und Trainer-Lehrgang
DESCRIPTION:2024-03-09_Ausschreibung_Prüfer-Trainer-Lehrgang
URL:https://h-t-u.de/event/pruefer-und-trainer-lehrgang/
LOCATION:Heusenstamm\, Seligenstädter Grund 13\, Heusenstamm
CATEGORIES:Hessische Taekwondo Union
END:VEVENT
BEGIN:VEVENT
DTSTART;TZID=Europe/Berlin:20240310T103000
DTEND;TZID=Europe/Berlin:20240310T160000
DTSTAMP:20260425T145717
CREATED:20240227T074402Z
LAST-MODIFIED:20240227T074504Z
UID:8339-1710066600-1710086400@h-t-u.de
SUMMARY:Kaderlehrgang Kampf
DESCRIPTION:Einladung Lehrgang Gelnhausen 10.03 \nTeilnehmerliste Lehrgang 10.03
URL:https://h-t-u.de/event/kaderlehrgang-kampf-6/
LOCATION:Turnhalle der Philipp-Reis-Schule\, Philipp-Reis-Str. 16\, Gelnhausen\, 63571
CATEGORIES:Hessische Taekwondo Union
END:VEVENT
BEGIN:VEVENT
DTSTART;TZID=Europe/Berlin:20240323T100000
DTEND;TZID=Europe/Berlin:20240323T100000
DTSTAMP:20260425T145717
CREATED:20231215T115314Z
LAST-MODIFIED:20231215T115425Z
UID:8089-1711188000-1711188000@h-t-u.de
SUMMARY:Dan-Prüfung zum 1. - 9. Dan / Poom
DESCRIPTION:2024-03-23-Ausschreibung_Dan-Prüfung_Hünfeld(1)
URL:https://h-t-u.de/event/dan-pruefung-zum-1-9-dan-poom-4/
LOCATION:Kreissporthalle Hünfeld\, Karl-Medler Str.\, Hünfeld\, 36088
CATEGORIES:Hessische Taekwondo Union
END:VEVENT
END:VCALENDAR