BEGIN:VCALENDAR
VERSION:2.0
PRODID:-//Hessische Taekwondo Union - ECPv6.15.20//NONSGML v1.0//EN
CALSCALE:GREGORIAN
METHOD:PUBLISH
X-WR-CALNAME:Hessische Taekwondo Union
X-ORIGINAL-URL:https://h-t-u.de
X-WR-CALDESC:Veranstaltungen für Hessische Taekwondo Union
REFRESH-INTERVAL;VALUE=DURATION:PT1H
X-Robots-Tag:noindex
X-PUBLISHED-TTL:PT1H
BEGIN:VTIMEZONE
TZID:Europe/Berlin
BEGIN:DAYLIGHT
TZOFFSETFROM:+0100
TZOFFSETTO:+0200
TZNAME:CEST
DTSTART:20230326T010000
END:DAYLIGHT
BEGIN:STANDARD
TZOFFSETFROM:+0200
TZOFFSETTO:+0100
TZNAME:CET
DTSTART:20231029T010000
END:STANDARD
BEGIN:DAYLIGHT
TZOFFSETFROM:+0100
TZOFFSETTO:+0200
TZNAME:CEST
DTSTART:20240331T010000
END:DAYLIGHT
BEGIN:STANDARD
TZOFFSETFROM:+0200
TZOFFSETTO:+0100
TZNAME:CET
DTSTART:20241027T010000
END:STANDARD
BEGIN:DAYLIGHT
TZOFFSETFROM:+0100
TZOFFSETTO:+0200
TZNAME:CEST
DTSTART:20250330T010000
END:DAYLIGHT
BEGIN:STANDARD
TZOFFSETFROM:+0200
TZOFFSETTO:+0100
TZNAME:CET
DTSTART:20251026T010000
END:STANDARD
END:VTIMEZONE
BEGIN:VEVENT
DTSTART;VALUE=DATE:20240901
DTEND;VALUE=DATE:20240902
DTSTAMP:20260425T010516
CREATED:20240423T083905Z
LAST-MODIFIED:20240423T083905Z
UID:8439-1725148800-1725235199@h-t-u.de
SUMMARY:Lehrgang Young Stars Team Kampf
DESCRIPTION:
URL:https://h-t-u.de/event/lehrgang-young-stars-team-kampf/
CATEGORIES:Hessische Taekwondo Union
END:VEVENT
BEGIN:VEVENT
DTSTART;TZID=Europe/Berlin:20240901T110000
DTEND;TZID=Europe/Berlin:20240901T160000
DTSTAMP:20260425T010516
CREATED:20240717T153823Z
LAST-MODIFIED:20240717T153824Z
UID:8678-1725188400-1725206400@h-t-u.de
SUMMARY:Kader- und Sichtungslehrgang Kampf
DESCRIPTION:Einladung Kader- und Sichtungslehrgang Dietzenbach am 01.09
URL:https://h-t-u.de/event/kader-und-sichtungslehrgang-kampf-7/
LOCATION:Ernst-Reuter-Schule\, Dr.-Heumann-Weg 1\,\, Ditzenbach\, 63128
CATEGORIES:Hessische Taekwondo Union
END:VEVENT
BEGIN:VEVENT
DTSTART;VALUE=DATE:20240907
DTEND;VALUE=DATE:20240908
DTSTAMP:20260425T010516
CREATED:20240206T102729Z
LAST-MODIFIED:20240206T102729Z
UID:8266-1725667200-1725753599@h-t-u.de
SUMMARY:DM Technik
DESCRIPTION:
URL:https://h-t-u.de/event/dm-technik-3/
END:VEVENT
BEGIN:VEVENT
DTSTART;VALUE=DATE:20240908
DTEND;VALUE=DATE:20240909
DTSTAMP:20260425T010516
CREATED:20240206T102756Z
LAST-MODIFIED:20240206T102756Z
UID:8268-1725753600-1725839999@h-t-u.de
SUMMARY:Int. Jugendcup Technik
DESCRIPTION:
URL:https://h-t-u.de/event/int-jugendcup-technik/
END:VEVENT
BEGIN:VEVENT
DTSTART;VALUE=DATE:20240914
DTEND;VALUE=DATE:20240915
DTSTAMP:20260425T010516
CREATED:20240215T100716Z
LAST-MODIFIED:20240215T100716Z
UID:8295-1726272000-1726358399@h-t-u.de
SUMMARY:Int. TURP Pokal
DESCRIPTION:14.sept-TURP_Pokal_2024
URL:https://h-t-u.de/event/int-turp-pokal-2/
END:VEVENT
BEGIN:VEVENT
DTSTART;VALUE=DATE:20240914
DTEND;VALUE=DATE:20240915
DTSTAMP:20260425T010516
CREATED:20240809T030935Z
LAST-MODIFIED:20240829T120954Z
UID:8712-1726272000-1726358399@h-t-u.de
SUMMARY:Hessen Open Technik
DESCRIPTION:Ausschreibung Hessen Open 2024 Poomsae – 14. September 2024
URL:https://h-t-u.de/event/htu-open-technik/
CATEGORIES:Hessische Taekwondo Union
END:VEVENT
BEGIN:VEVENT
DTSTART;TZID=Europe/Berlin:20240929T150000
DTEND;TZID=Europe/Berlin:20240929T180000
DTSTAMP:20260425T010516
CREATED:20240916T131004Z
LAST-MODIFIED:20240917T105721Z
UID:8819-1727622000-1727632800@h-t-u.de
SUMMARY:Lehrgang Young Stars Team Technik
DESCRIPTION:2024-09-29_Einladung-YST-Training
URL:https://h-t-u.de/event/young-stars-team-lehrgang-technik/
LOCATION:Städt. Turnhalle\, Schultheißstr. 19\, Wiesbaden\, 65191
CATEGORIES:Hessische Taekwondo Union
END:VEVENT
END:VCALENDAR