BEGIN:VCALENDAR
VERSION:2.0
PRODID:-//Hessische Taekwondo Union - ECPv6.15.20//NONSGML v1.0//EN
CALSCALE:GREGORIAN
METHOD:PUBLISH
X-WR-CALNAME:Hessische Taekwondo Union
X-ORIGINAL-URL:https://h-t-u.de
X-WR-CALDESC:Veranstaltungen für Hessische Taekwondo Union
REFRESH-INTERVAL;VALUE=DURATION:PT1H
X-Robots-Tag:noindex
X-PUBLISHED-TTL:PT1H
BEGIN:VTIMEZONE
TZID:Europe/Berlin
BEGIN:DAYLIGHT
TZOFFSETFROM:+0100
TZOFFSETTO:+0200
TZNAME:CEST
DTSTART:20230326T010000
END:DAYLIGHT
BEGIN:STANDARD
TZOFFSETFROM:+0200
TZOFFSETTO:+0100
TZNAME:CET
DTSTART:20231029T010000
END:STANDARD
BEGIN:DAYLIGHT
TZOFFSETFROM:+0100
TZOFFSETTO:+0200
TZNAME:CEST
DTSTART:20240331T010000
END:DAYLIGHT
BEGIN:STANDARD
TZOFFSETFROM:+0200
TZOFFSETTO:+0100
TZNAME:CET
DTSTART:20241027T010000
END:STANDARD
BEGIN:DAYLIGHT
TZOFFSETFROM:+0100
TZOFFSETTO:+0200
TZNAME:CEST
DTSTART:20250330T010000
END:DAYLIGHT
BEGIN:STANDARD
TZOFFSETFROM:+0200
TZOFFSETTO:+0100
TZNAME:CET
DTSTART:20251026T010000
END:STANDARD
END:VTIMEZONE
BEGIN:VEVENT
DTSTART;VALUE=DATE:20241103
DTEND;VALUE=DATE:20241104
DTSTAMP:20260424T221626
CREATED:20240423T083945Z
LAST-MODIFIED:20240423T083945Z
UID:8443-1730592000-1730678399@h-t-u.de
SUMMARY:Lehrgang Young Stars Team Kampf
DESCRIPTION:
URL:https://h-t-u.de/event/lehrgang-young-stars-team-kampf-3/
CATEGORIES:Hessische Taekwondo Union
END:VEVENT
BEGIN:VEVENT
DTSTART;VALUE=DATE:20241109
DTEND;VALUE=DATE:20241110
DTSTAMP:20260424T221626
CREATED:20240104T152913Z
LAST-MODIFIED:20240330T185929Z
UID:8150-1731110400-1731196799@h-t-u.de
SUMMARY:DTU Final 8 NRW
DESCRIPTION:
URL:https://h-t-u.de/event/dtu-final-8-nrw/
END:VEVENT
BEGIN:VEVENT
DTSTART;TZID=Europe/Berlin:20241110T093000
DTEND;TZID=Europe/Berlin:20241110T173000
DTSTAMP:20260424T221626
CREATED:20241007T082852Z
LAST-MODIFIED:20241007T082852Z
UID:8915-1731231000-1731259800@h-t-u.de
SUMMARY:Kampfrichter Lehrgang – Technik / Poomsae
DESCRIPTION:Ausschreibung – HTU Poomsae Kampfrichter Lehrgang – 10. November 2024 \nAnmeldung – HTU Kampfrichterlehrgang Technik – Poomsae 10. November 2024
URL:https://h-t-u.de/event/kampfrichter-lehrgang-technik-poomsae-2/
LOCATION:Niebelungenlandhalle\, Wilhelmstraße 96\, Bensheim\, 64625
CATEGORIES:Hessische Taekwondo Union
END:VEVENT
BEGIN:VEVENT
DTSTART;VALUE=DATE:20241116
DTEND;VALUE=DATE:20241117
DTSTAMP:20260424T221626
CREATED:20240104T153224Z
LAST-MODIFIED:20240104T153224Z
UID:8158-1731715200-1731801599@h-t-u.de
SUMMARY:DTU Final 8 Sachsen-Anhalt
DESCRIPTION:
URL:https://h-t-u.de/event/dtu-final-8-sachsen-anhalt/
END:VEVENT
BEGIN:VEVENT
DTSTART;VALUE=DATE:20241123
DTEND;VALUE=DATE:20241124
DTSTAMP:20260424T221626
CREATED:20240425T071553Z
LAST-MODIFIED:20241031T085224Z
UID:8473-1732320000-1732406399@h-t-u.de
SUMMARY:Hessenmeisterschaften Kampf und Technik
DESCRIPTION:Ausschreibung- Hessenmeisterschaft u Hessennachwuchsturnier 2024 Kyorugi – Zweikampf \n  \nAusschreibung-Hessenmeisterschaft u Hessennachwuchsturnier 2024 Poomsae – Technik
URL:https://h-t-u.de/event/hessenmeisterschaften-kampf-und-technik/
LOCATION:Albin-Göhring-Halle\, Massenheimer Weg 2\, Bad Homburg\, 61352\, Germany
CATEGORIES:Hessische Taekwondo Union
END:VEVENT
BEGIN:VEVENT
DTSTART;VALUE=DATE:20241130
DTEND;VALUE=DATE:20241205
DTSTAMP:20260424T221626
CREATED:20231121T095017Z
LAST-MODIFIED:20240321T100812Z
UID:8054-1732924800-1733356799@h-t-u.de
SUMMARY:WM Poomsae
DESCRIPTION:
URL:https://h-t-u.de/event/wm-poomsae-2/
END:VEVENT
END:VCALENDAR