BEGIN:VCALENDAR
VERSION:2.0
PRODID:-//Hessische Taekwondo Union - ECPv6.15.20//NONSGML v1.0//EN
CALSCALE:GREGORIAN
METHOD:PUBLISH
X-ORIGINAL-URL:https://h-t-u.de
X-WR-CALDESC:Veranstaltungen für Hessische Taekwondo Union
REFRESH-INTERVAL;VALUE=DURATION:PT1H
X-Robots-Tag:noindex
X-PUBLISHED-TTL:PT1H
BEGIN:VTIMEZONE
TZID:Europe/Berlin
BEGIN:DAYLIGHT
TZOFFSETFROM:+0100
TZOFFSETTO:+0200
TZNAME:CEST
DTSTART:20240331T010000
END:DAYLIGHT
BEGIN:STANDARD
TZOFFSETFROM:+0200
TZOFFSETTO:+0100
TZNAME:CET
DTSTART:20241027T010000
END:STANDARD
BEGIN:DAYLIGHT
TZOFFSETFROM:+0100
TZOFFSETTO:+0200
TZNAME:CEST
DTSTART:20250330T010000
END:DAYLIGHT
BEGIN:STANDARD
TZOFFSETFROM:+0200
TZOFFSETTO:+0100
TZNAME:CET
DTSTART:20251026T010000
END:STANDARD
BEGIN:DAYLIGHT
TZOFFSETFROM:+0100
TZOFFSETTO:+0200
TZNAME:CEST
DTSTART:20260329T010000
END:DAYLIGHT
BEGIN:STANDARD
TZOFFSETFROM:+0200
TZOFFSETTO:+0100
TZNAME:CET
DTSTART:20261025T010000
END:STANDARD
END:VTIMEZONE
BEGIN:VEVENT
DTSTART;TZID=Europe/Berlin:20250302T090000
DTEND;TZID=Europe/Berlin:20250302T170000
DTSTAMP:20260424T104101
CREATED:20241211T110553Z
LAST-MODIFIED:20241211T110553Z
UID:9088-1740906000-1740934800@h-t-u.de
SUMMARY:PRAXIS - FORTBILDUNG FASZIENTAPING
DESCRIPTION:flyer-Fortbildung-BERENGAR-März 2025
URL:https://h-t-u.de/event/praxis-fortbildung-faszientaping/
LOCATION:Landessportbund Hessen\, Otto-Fleck-Schneise 4\, Frankfurt\, 60528
CATEGORIES:Hessische Taekwondo Union
END:VEVENT
BEGIN:VEVENT
DTSTART;TZID=Europe/Berlin:20250302T103000
DTEND;TZID=Europe/Berlin:20250302T160000
DTSTAMP:20260424T104101
CREATED:20250128T095200Z
LAST-MODIFIED:20250128T095200Z
UID:9166-1740911400-1740931200@h-t-u.de
SUMMARY:Young Stars Team Training Kampf
DESCRIPTION:
URL:https://h-t-u.de/event/young-stars-team-training-kampf/
LOCATION:Turnhalle der Philipp-Reis-Schule\, Philipp-Reis-Str. 16\, Gelnhausen\, 63571
CATEGORIES:Hessische Taekwondo Union
END:VEVENT
BEGIN:VEVENT
DTSTART;TZID=Europe/Berlin:20250329T100000
DTEND;TZID=Europe/Berlin:20250329T130000
DTSTAMP:20260424T104101
CREATED:20250317T140948Z
LAST-MODIFIED:20250317T141110Z
UID:9290-1743242400-1743253200@h-t-u.de
SUMMARY:Young Stars Team Training Technik
DESCRIPTION:
URL:https://h-t-u.de/event/young-stsrs-team-training-technik/
LOCATION:Turnhalle Diedenbergen\, Wildsachsener Str. 4\, Hofheim-Diedenbergen\, 65719
CATEGORIES:Hessische Taekwondo Union
END:VEVENT
BEGIN:VEVENT
DTSTART;TZID=Europe/Berlin:20250329T100000
DTEND;TZID=Europe/Berlin:20250329T235900
DTSTAMP:20260424T104101
CREATED:20241111T075157Z
LAST-MODIFIED:20241114T232016Z
UID:9030-1743242400-1743292740@h-t-u.de
SUMMARY:Dan-Prüfung
DESCRIPTION:2025-03-29-Ausschreibung_Dan-Prüfung TKD Freigericht e.V.(1)
URL:https://h-t-u.de/event/dan-pruefung-in-freigericht/
LOCATION:Kopernikusschule\, Konrad-Adenauer-Ring 25\, Freigericht\, 63579
CATEGORIES:Hessische Taekwondo Union
END:VEVENT
BEGIN:VEVENT
DTSTART;TZID=Europe/Berlin:20250330T100000
DTEND;TZID=Europe/Berlin:20250330T150000
DTSTAMP:20260424T104101
CREATED:20250214T083612Z
LAST-MODIFIED:20250214T083613Z
UID:9237-1743328800-1743346800@h-t-u.de
SUMMARY:Kaderlehrgang Technik
DESCRIPTION:
URL:https://h-t-u.de/event/kaderlehrgang-technik-11/
LOCATION:Walluftalschule\, Hohlweg 45\, Walluf\, 65396
CATEGORIES:Hessische Taekwondo Union
END:VEVENT
END:VCALENDAR