BEGIN:VCALENDAR
VERSION:2.0
PRODID:-//Hessische Taekwondo Union - ECPv6.15.20//NONSGML v1.0//EN
CALSCALE:GREGORIAN
METHOD:PUBLISH
X-WR-CALNAME:Hessische Taekwondo Union
X-ORIGINAL-URL:https://h-t-u.de
X-WR-CALDESC:Veranstaltungen für Hessische Taekwondo Union
REFRESH-INTERVAL;VALUE=DURATION:PT1H
X-Robots-Tag:noindex
X-PUBLISHED-TTL:PT1H
BEGIN:VTIMEZONE
TZID:Europe/Berlin
BEGIN:DAYLIGHT
TZOFFSETFROM:+0100
TZOFFSETTO:+0200
TZNAME:CEST
DTSTART:20240331T010000
END:DAYLIGHT
BEGIN:STANDARD
TZOFFSETFROM:+0200
TZOFFSETTO:+0100
TZNAME:CET
DTSTART:20241027T010000
END:STANDARD
BEGIN:DAYLIGHT
TZOFFSETFROM:+0100
TZOFFSETTO:+0200
TZNAME:CEST
DTSTART:20250330T010000
END:DAYLIGHT
BEGIN:STANDARD
TZOFFSETFROM:+0200
TZOFFSETTO:+0100
TZNAME:CET
DTSTART:20251026T010000
END:STANDARD
BEGIN:DAYLIGHT
TZOFFSETFROM:+0100
TZOFFSETTO:+0200
TZNAME:CEST
DTSTART:20260329T010000
END:DAYLIGHT
BEGIN:STANDARD
TZOFFSETFROM:+0200
TZOFFSETTO:+0100
TZNAME:CET
DTSTART:20261025T010000
END:STANDARD
END:VTIMEZONE
BEGIN:VEVENT
DTSTART;TZID=Europe/Berlin:20250503T100000
DTEND;TZID=Europe/Berlin:20250503T100000
DTSTAMP:20260424T053011
CREATED:20250228T092606Z
LAST-MODIFIED:20250317T213558Z
UID:9272-1746266400-1746266400@h-t-u.de
SUMMARY:2. Dan-Vorbereitungslehrgang zum 1. - 9. Dan / 1. - 3. Poom
DESCRIPTION:Kopie von 2025-05-03_Ausschreibung_DVL-TURA-Niederhöchstadt-1 \nAnmeldung_Exel-Tabelle-_DVL_Niederhöchstadt_03.05.2025 
URL:https://h-t-u.de/event/2-dan-vorbereitungslehrgang-zum-1-9-dan-1-3-poom/
LOCATION:Niederhöchstadt\, Georg-Büchner-Straße 30\, Eschborn\, 65760
CATEGORIES:Hessische Taekwondo Union
END:VEVENT
BEGIN:VEVENT
DTSTART;TZID=Europe/Berlin:20250510T100000
DTEND;TZID=Europe/Berlin:20250510T150000
DTSTAMP:20260424T053011
CREATED:20250427T170543Z
LAST-MODIFIED:20250427T170638Z
UID:9359-1746871200-1746889200@h-t-u.de
SUMMARY:Kaderlehrgang Technik
DESCRIPTION:
URL:https://h-t-u.de/event/kaderlehrgang-technik/
LOCATION:Walluftalschule\, Hohlweg 45\, Walluf\, 65396
CATEGORIES:Hessische Taekwondo Union
END:VEVENT
BEGIN:VEVENT
DTSTART;TZID=Europe/Berlin:20250511T093000
DTEND;TZID=Europe/Berlin:20250511T173000
DTSTAMP:20260424T053011
CREATED:20250421T075043Z
LAST-MODIFIED:20250421T075043Z
UID:9348-1746955800-1746984600@h-t-u.de
SUMMARY:Kampfrichter Lehrgang – Technik / Poomsae
DESCRIPTION:Ausschreibung – HTU Poomsae Kampfrichter Lehrgang – 11. Mai 2025 \nAnmeldung – HTU Kampfrichterlehrgang Technik – Poomsae 11. Mai 2025
URL:https://h-t-u.de/event/kampfrichter-lehrgang-technik-poomsae/
LOCATION:Heinrich-Mann-Schule\, Etruskerstr. 2\, Dietzenbach\, 63128
CATEGORIES:Hessische Taekwondo Union
END:VEVENT
BEGIN:VEVENT
DTSTART;VALUE=DATE:20250516
DTEND;VALUE=DATE:20250519
DTSTAMP:20260424T053011
CREATED:20241021T080913Z
LAST-MODIFIED:20250317T213608Z
UID:8970-1747353600-1747612799@h-t-u.de
SUMMARY:24. Budo Frühjahrslehrgang
DESCRIPTION:BudolehrgangSeulberg2025
URL:https://h-t-u.de/event/24-budo-fruehjahrslehrgang/
LOCATION:Hardtwaldhalle des TV Seulberg\, Landwehrstrasse 5a\, Friedrichsdorf\, 61381
END:VEVENT
BEGIN:VEVENT
DTSTART;VALUE=DATE:20250518
DTEND;VALUE=DATE:20250519
DTSTAMP:20260424T053011
CREATED:20250128T095301Z
LAST-MODIFIED:20250128T095302Z
UID:9170-1747526400-1747612799@h-t-u.de
SUMMARY:Young Stars Team Training Kampf
DESCRIPTION:
URL:https://h-t-u.de/event/young-stars-team-training-kampf-3/
CATEGORIES:Hessische Taekwondo Union
END:VEVENT
END:VCALENDAR