BEGIN:VCALENDAR
VERSION:2.0
PRODID:-//Hessische Taekwondo Union - ECPv6.15.20//NONSGML v1.0//EN
CALSCALE:GREGORIAN
METHOD:PUBLISH
X-WR-CALNAME:Hessische Taekwondo Union
X-ORIGINAL-URL:https://h-t-u.de
X-WR-CALDESC:Veranstaltungen für Hessische Taekwondo Union
REFRESH-INTERVAL;VALUE=DURATION:PT1H
X-Robots-Tag:noindex
X-PUBLISHED-TTL:PT1H
BEGIN:VTIMEZONE
TZID:Europe/Berlin
BEGIN:DAYLIGHT
TZOFFSETFROM:+0100
TZOFFSETTO:+0200
TZNAME:CEST
DTSTART:20240331T010000
END:DAYLIGHT
BEGIN:STANDARD
TZOFFSETFROM:+0200
TZOFFSETTO:+0100
TZNAME:CET
DTSTART:20241027T010000
END:STANDARD
BEGIN:DAYLIGHT
TZOFFSETFROM:+0100
TZOFFSETTO:+0200
TZNAME:CEST
DTSTART:20250330T010000
END:DAYLIGHT
BEGIN:STANDARD
TZOFFSETFROM:+0200
TZOFFSETTO:+0100
TZNAME:CET
DTSTART:20251026T010000
END:STANDARD
BEGIN:DAYLIGHT
TZOFFSETFROM:+0100
TZOFFSETTO:+0200
TZNAME:CEST
DTSTART:20260329T010000
END:DAYLIGHT
BEGIN:STANDARD
TZOFFSETFROM:+0200
TZOFFSETTO:+0100
TZNAME:CET
DTSTART:20261025T010000
END:STANDARD
END:VTIMEZONE
BEGIN:VEVENT
DTSTART;VALUE=DATE:20250817
DTEND;VALUE=DATE:20250818
DTSTAMP:20260423T221017
CREATED:20250526T132522Z
LAST-MODIFIED:20250526T132522Z
UID:9434-1755388800-1755475199@h-t-u.de
SUMMARY:Young Stars Team Training Technik
DESCRIPTION:
URL:https://h-t-u.de/event/young-stars-team-training-technik-4/
CATEGORIES:Hessische Taekwondo Union
END:VEVENT
BEGIN:VEVENT
DTSTART;TZID=Europe/Berlin:20250817T103000
DTEND;TZID=Europe/Berlin:20250817T160000
DTSTAMP:20260423T221017
CREATED:20250704T073526Z
LAST-MODIFIED:20250704T073526Z
UID:9566-1755426600-1755446400@h-t-u.de
SUMMARY:Sichtungslehrgang Young Stars Team Kampf
DESCRIPTION:Einladung Lehrgang Young Stars Sichtung 17.08
URL:https://h-t-u.de/event/sichtungslehrgang-young-stars-team-kampf/
LOCATION:Turnhalle der Philipp-Reis-Schule\, Philipp-Reis-Str. 16\, Gelnhausen\, 63571
CATEGORIES:Hessische Taekwondo Union
END:VEVENT
BEGIN:VEVENT
DTSTART;TZID=Europe/Berlin:20250824T100000
DTEND;TZID=Europe/Berlin:20250824T153000
DTSTAMP:20260423T221017
CREATED:20250704T072208Z
LAST-MODIFIED:20250704T072208Z
UID:9563-1756029600-1756049400@h-t-u.de
SUMMARY:Kader- und Sichtungslehrgang Kampf
DESCRIPTION:Einladung Kader- und Sichtungslehrgang Niederhöchstadt 24.08
URL:https://h-t-u.de/event/kader-und-sichtungslehrgang-kampf/
LOCATION:Niederhöchstadt\, Georg-Büchner-Straße 30\, Eschborn\, 65760
CATEGORIES:Hessische Taekwondo Union
END:VEVENT
BEGIN:VEVENT
DTSTART;VALUE=DATE:20250830
DTEND;VALUE=DATE:20250831
DTSTAMP:20260423T221017
CREATED:20250508T111647Z
LAST-MODIFIED:20250703T084222Z
UID:9392-1756512000-1756598399@h-t-u.de
SUMMARY:Int. Hessenpokal Technik
DESCRIPTION:Ausschreibung_Int.-Hessenpokal-2025_Poomsae_2025-08-30_v2
URL:https://h-t-u.de/event/int-hessenpokal-technik/
LOCATION:Hainhausen\, Am Sportfeld\, Rodgau-Hainhausen\, 63110
CATEGORIES:Hessische Taekwondo Union
END:VEVENT
END:VCALENDAR