BEGIN:VCALENDAR
VERSION:2.0
PRODID:-//Hessische Taekwondo Union - ECPv6.15.20//NONSGML v1.0//EN
CALSCALE:GREGORIAN
METHOD:PUBLISH
X-ORIGINAL-URL:https://h-t-u.de
X-WR-CALDESC:Veranstaltungen für Hessische Taekwondo Union
REFRESH-INTERVAL;VALUE=DURATION:PT1H
X-Robots-Tag:noindex
X-PUBLISHED-TTL:PT1H
BEGIN:VTIMEZONE
TZID:Europe/Berlin
BEGIN:DAYLIGHT
TZOFFSETFROM:+0100
TZOFFSETTO:+0200
TZNAME:CEST
DTSTART:20250330T010000
END:DAYLIGHT
BEGIN:STANDARD
TZOFFSETFROM:+0200
TZOFFSETTO:+0100
TZNAME:CET
DTSTART:20251026T010000
END:STANDARD
BEGIN:DAYLIGHT
TZOFFSETFROM:+0100
TZOFFSETTO:+0200
TZNAME:CEST
DTSTART:20260329T010000
END:DAYLIGHT
BEGIN:STANDARD
TZOFFSETFROM:+0200
TZOFFSETTO:+0100
TZNAME:CET
DTSTART:20261025T010000
END:STANDARD
BEGIN:DAYLIGHT
TZOFFSETFROM:+0100
TZOFFSETTO:+0200
TZNAME:CEST
DTSTART:20270328T010000
END:DAYLIGHT
BEGIN:STANDARD
TZOFFSETFROM:+0200
TZOFFSETTO:+0100
TZNAME:CET
DTSTART:20271031T010000
END:STANDARD
END:VTIMEZONE
BEGIN:VEVENT
DTSTART;TZID=Europe/Berlin:20260201T100000
DTEND;TZID=Europe/Berlin:20260201T100000
DTSTAMP:20260423T081005
CREATED:20251205T091636Z
LAST-MODIFIED:20251205T091723Z
UID:9892-1769940000-1769940000@h-t-u.de
SUMMARY:1. Dan-Vorbereitungslehrgang zum 1. - 9. Dan/3 Poom
DESCRIPTION:2026-02-01-Ausschreibung_DVL-Taekwondo Verein VfL Kassel \nVorlage_Anmeldung_DVL
URL:https://h-t-u.de/event/1-dan-vorbereitungslehrgang-zum-1-9-dan-3-poom/
LOCATION:Turnhalle Grundschule Kirchditmold\, Mergellstr. 41\, Kassel\, 34130
CATEGORIES:Hessische Taekwondo Union
END:VEVENT
BEGIN:VEVENT
DTSTART;TZID=Europe/Berlin:20260208T150000
DTEND;TZID=Europe/Berlin:20260208T180000
DTSTAMP:20260423T081005
CREATED:20260126T075821Z
LAST-MODIFIED:20260126T075821Z
UID:10019-1770562800-1770573600@h-t-u.de
SUMMARY:Young Stars Team Training
DESCRIPTION:
URL:https://h-t-u.de/event/young-stars-team-training-2/
LOCATION:Städt. Turnhalle\, Schultheißstr. 19\, Wiesbaden\, 65191
CATEGORIES:Hessische Taekwondo Union
END:VEVENT
BEGIN:VEVENT
DTSTART;TZID=Europe/Berlin:20260221T090000
DTEND;TZID=Europe/Berlin:20260221T180000
DTSTAMP:20260423T081005
CREATED:20251229T095606Z
LAST-MODIFIED:20251229T095607Z
UID:9958-1771664400-1771696800@h-t-u.de
SUMMARY:German Open Poomsae
DESCRIPTION:
URL:https://h-t-u.de/event/german-open-poomsae/
LOCATION:Sporthalle Platz der deutschen Einheit\, Platz der Deutschen Einheit\, Wiesbaden\, 65185
CATEGORIES:Deutsche Taekwondo Union,Hessische Taekwondo Union
END:VEVENT
BEGIN:VEVENT
DTSTART;TZID=Europe/Berlin:20260222T103000
DTEND;TZID=Europe/Berlin:20260222T160000
DTSTAMP:20260423T081005
CREATED:20260122T120155Z
LAST-MODIFIED:20260122T120155Z
UID:10011-1771756200-1771776000@h-t-u.de
SUMMARY:Sichtungslehrgang Young Stars Team Kampf
DESCRIPTION:Einladung Lehrgang Young Stars Sichtung 22.02.2026 Niederhöchstadt
URL:https://h-t-u.de/event/sichtungslehrgang-young-stars-team-kampf-2/
LOCATION:Niederhöchstadt\, Georg-Büchner-Straße 30\, Eschborn\, 65760
CATEGORIES:Hessische Taekwondo Union
END:VEVENT
BEGIN:VEVENT
DTSTART;TZID=Europe/Berlin:20260222T110000
DTEND;TZID=Europe/Berlin:20260222T160000
DTSTAMP:20260423T081005
CREATED:20260202T091725Z
LAST-MODIFIED:20260202T091725Z
UID:10092-1771758000-1771776000@h-t-u.de
SUMMARY:Kaderlehrgang Kampf
DESCRIPTION:
URL:https://h-t-u.de/event/kaderlehrgang-kampf-3/
LOCATION:Niederhöchstadt\, Georg-Büchner-Straße 30\, Eschborn\, 65760
END:VEVENT
END:VCALENDAR