BEGIN:VCALENDAR
VERSION:2.0
PRODID:-//Hessische Taekwondo Union - ECPv6.15.20//NONSGML v1.0//EN
CALSCALE:GREGORIAN
METHOD:PUBLISH
X-ORIGINAL-URL:https://h-t-u.de
X-WR-CALDESC:Veranstaltungen für Hessische Taekwondo Union
REFRESH-INTERVAL;VALUE=DURATION:PT1H
X-Robots-Tag:noindex
X-PUBLISHED-TTL:PT1H
BEGIN:VTIMEZONE
TZID:Europe/Berlin
BEGIN:DAYLIGHT
TZOFFSETFROM:+0100
TZOFFSETTO:+0200
TZNAME:CEST
DTSTART:20250330T010000
END:DAYLIGHT
BEGIN:STANDARD
TZOFFSETFROM:+0200
TZOFFSETTO:+0100
TZNAME:CET
DTSTART:20251026T010000
END:STANDARD
BEGIN:DAYLIGHT
TZOFFSETFROM:+0100
TZOFFSETTO:+0200
TZNAME:CEST
DTSTART:20260329T010000
END:DAYLIGHT
BEGIN:STANDARD
TZOFFSETFROM:+0200
TZOFFSETTO:+0100
TZNAME:CET
DTSTART:20261025T010000
END:STANDARD
BEGIN:DAYLIGHT
TZOFFSETFROM:+0100
TZOFFSETTO:+0200
TZNAME:CEST
DTSTART:20270328T010000
END:DAYLIGHT
BEGIN:STANDARD
TZOFFSETFROM:+0200
TZOFFSETTO:+0100
TZNAME:CET
DTSTART:20271031T010000
END:STANDARD
END:VTIMEZONE
BEGIN:VEVENT
DTSTART;TZID=Europe/Berlin:20260604T100000
DTEND;TZID=Europe/Berlin:20260604T163000
DTSTAMP:20260423T102141
CREATED:20260313T121653Z
LAST-MODIFIED:20260313T121653Z
UID:10172-1780567200-1780590600@h-t-u.de
SUMMARY:Taekwondo Seminar Intensiv 80
DESCRIPTION:
URL:https://h-t-u.de/event/taekwondo-seminar-intensiv-80-4/
LOCATION:Sporthalle der Theodor-Fliedner-Schule\, Biegerstr. 15\, 65191 Wiesbaden
CATEGORIES:Vereinsveranstaltung
END:VEVENT
BEGIN:VEVENT
DTSTART;TZID=Europe/Berlin:20260606T100000
DTEND;TZID=Europe/Berlin:20260606T170000
DTSTAMP:20260423T102141
CREATED:20260223T142026Z
LAST-MODIFIED:20260223T142028Z
UID:10146-1780740000-1780765200@h-t-u.de
SUMMARY:Kampfrichterlehrgang Technik/Poomsae
DESCRIPTION:Ausschreibung_KR-Lehrgang-Technik_(2026-06-06)_v1.0 \nAnmeldeformular_KR-Lehrgang-Technik_(2026-06-06)
URL:https://h-t-u.de/event/kampfrichterlehrgang-technik-poomsae-2/
LOCATION:Niebelungenlandhalle\, Wilhelmstraße 96\, Bensheim\, 64625
CATEGORIES:Hessische Taekwondo Union
END:VEVENT
BEGIN:VEVENT
DTSTART;TZID=Europe/Berlin:20260613T100000
DTEND;TZID=Europe/Berlin:20260613T100000
DTSTAMP:20260423T102141
CREATED:20260209T074758Z
LAST-MODIFIED:20260209T074812Z
UID:10109-1781344800-1781344800@h-t-u.de
SUMMARY:Dan-Prüfung zum 1. - 9. Dan /3 Poom
DESCRIPTION:2026-06-13-Ausschreibung_Dan-Prüfufung_Dietzenbach
URL:https://h-t-u.de/event/dan-pruefung-zum-1-9-dan-3-poom-4/
LOCATION:Philipp Fenn Halle\, Rodgaustr. 1\, Dietzenbach\, 63128
CATEGORIES:Hessische Taekwondo Union
END:VEVENT
BEGIN:VEVENT
DTSTART;TZID=Europe/Berlin:20260627T100000
DTEND;TZID=Europe/Berlin:20260628T160000
DTSTAMP:20260423T102141
CREATED:20260331T070709Z
LAST-MODIFIED:20260331T152715Z
UID:10251-1782554400-1782662400@h-t-u.de
SUMMARY:WM-Vorbereitungslehrgang Technik
DESCRIPTION:Referenten:\nMarion Schrader IR Deutschland\nAlexander Hübl IR Österreich\nSunni Park Landestrainerin HTU\nFlorian Gems Freestyle Tricking\nTobias Strack Freestyle Turnen\nKai Müller Bundestrainer Österreich\, Vizepräsident Technik HTU und Organisator \nTeilnehmer:\nWM-Teilnehmer HTU\nBundeskadersportler HTU \nIntensiv Seminar Poomsae und Freestyle mit Topteam Juni 2026-Zeitplan
URL:https://h-t-u.de/event/wm-vorbereitungslehrgang-technik/
LOCATION:TSG Sonnenberg\, Am Schlossberg 24\, Wiesbaden\, 65191
CATEGORIES:Hessische Taekwondo Union
END:VEVENT
END:VCALENDAR